BEGIN:VCALENDAR
VERSION:2.0
PRODID:-//Rogers County Election Board - ECPv6.15.18//NONSGML v1.0//EN
CALSCALE:GREGORIAN
METHOD:PUBLISH
X-WR-CALNAME:Rogers County Election Board
X-ORIGINAL-URL:https://rogerscountyelectionboard.org
X-WR-CALDESC:Events for Rogers County Election Board
REFRESH-INTERVAL;VALUE=DURATION:PT1H
X-Robots-Tag:noindex
X-PUBLISHED-TTL:PT1H
BEGIN:VTIMEZONE
TZID:America/Chicago
BEGIN:DAYLIGHT
TZOFFSETFROM:-0600
TZOFFSETTO:-0500
TZNAME:CDT
DTSTART:20170312T080000
END:DAYLIGHT
BEGIN:STANDARD
TZOFFSETFROM:-0500
TZOFFSETTO:-0600
TZNAME:CST
DTSTART:20171105T070000
END:STANDARD
BEGIN:DAYLIGHT
TZOFFSETFROM:-0600
TZOFFSETTO:-0500
TZNAME:CDT
DTSTART:20180311T080000
END:DAYLIGHT
BEGIN:STANDARD
TZOFFSETFROM:-0500
TZOFFSETTO:-0600
TZNAME:CST
DTSTART:20181104T070000
END:STANDARD
BEGIN:DAYLIGHT
TZOFFSETFROM:-0600
TZOFFSETTO:-0500
TZNAME:CDT
DTSTART:20190310T080000
END:DAYLIGHT
BEGIN:STANDARD
TZOFFSETFROM:-0500
TZOFFSETTO:-0600
TZNAME:CST
DTSTART:20191103T070000
END:STANDARD
END:VTIMEZONE
BEGIN:VEVENT
DTSTART;TZID=America/Chicago:20180403T070000
DTEND;TZID=America/Chicago:20180403T190000
DTSTAMP:20260419T091803
CREATED:20180102T203927Z
LAST-MODIFIED:20180102T203927Z
UID:10000051-1522738800-1522782000@rogerscountyelectionboard.org
SUMMARY:Special Election
DESCRIPTION:Voting today\, Polls open at 7 am and close at 7 pm. Not all precincts are involved. Check here to see if your precinct is included and to see a sample ballot.
URL:https://rogerscountyelectionboard.org/event/special-election-2/
LOCATION:Oklahoma
END:VEVENT
BEGIN:VEVENT
DTSTART;VALUE=DATE:20180411
DTEND;VALUE=DATE:20180414
DTSTAMP:20260419T091803
CREATED:20180403T133435Z
LAST-MODIFIED:20180403T133435Z
UID:10000052-1523404800-1523663999@rogerscountyelectionboard.org
SUMMARY:Filing for County Offices
DESCRIPTION:Filing begins today for Assessor\, District 1 Commissioner\, District 3 Commissioner\, and Treasurer. \nCandidate Qualifications for County Assessor & County Treasurer County Wide Office Qualifications \nCandidate Qualifications for County CommissionerCounty Commissioner Qualifications \nEveryone who files will need to fill out the filing packet\, Fill in the forms\, print them out\, get notarized then bring to the Election Board Office. \nCounty Candidates Filing PacketCounty Offices Filing Packet \nThe Election Board will be open from 8 am to 5 pm each day of filing. If you have questions please contact the Election Board office. 918-341-2965
URL:https://rogerscountyelectionboard.org/event/filing-for-county-offices/
LOCATION:Oklahoma
END:VEVENT
BEGIN:VEVENT
DTSTART;TZID=America/Chicago:20180411T080000
DTEND;TZID=America/Chicago:20180411T170000
DTSTAMP:20260419T091803
CREATED:20180403T145023Z
LAST-MODIFIED:20180403T145023Z
UID:10000057-1523433600-1523466000@rogerscountyelectionboard.org
SUMMARY:Resolutions DUE
DESCRIPTION:Message to all entities: Resolutions are due today by 5 p.m. for the June 26th Election
URL:https://rogerscountyelectionboard.org/event/resolutions-due-8/
LOCATION:Oklahoma
END:VEVENT
END:VCALENDAR