BEGIN:VCALENDAR
VERSION:2.0
PRODID:-//Rogers County Election Board - ECPv6.15.18//NONSGML v1.0//EN
CALSCALE:GREGORIAN
METHOD:PUBLISH
X-WR-CALNAME:Rogers County Election Board
X-ORIGINAL-URL:https://rogerscountyelectionboard.org
X-WR-CALDESC:Events for Rogers County Election Board
REFRESH-INTERVAL;VALUE=DURATION:PT1H
X-Robots-Tag:noindex
X-PUBLISHED-TTL:PT1H
BEGIN:VTIMEZONE
TZID:America/Chicago
BEGIN:DAYLIGHT
TZOFFSETFROM:-0600
TZOFFSETTO:-0500
TZNAME:CDT
DTSTART:20160313T080000
END:DAYLIGHT
BEGIN:STANDARD
TZOFFSETFROM:-0500
TZOFFSETTO:-0600
TZNAME:CST
DTSTART:20161106T070000
END:STANDARD
BEGIN:DAYLIGHT
TZOFFSETFROM:-0600
TZOFFSETTO:-0500
TZNAME:CDT
DTSTART:20170312T080000
END:DAYLIGHT
BEGIN:STANDARD
TZOFFSETFROM:-0500
TZOFFSETTO:-0600
TZNAME:CST
DTSTART:20171105T070000
END:STANDARD
BEGIN:DAYLIGHT
TZOFFSETFROM:-0600
TZOFFSETTO:-0500
TZNAME:CDT
DTSTART:20180311T080000
END:DAYLIGHT
BEGIN:STANDARD
TZOFFSETFROM:-0500
TZOFFSETTO:-0600
TZNAME:CST
DTSTART:20181104T070000
END:STANDARD
END:VTIMEZONE
BEGIN:VEVENT
DTSTART;TZID=America/Chicago:20170608T080000
DTEND;TZID=America/Chicago:20170608T170000
DTSTAMP:20260420T124603
CREATED:20161206T163342Z
LAST-MODIFIED:20161206T163342Z
UID:10000026-1496908800-1496941200@rogerscountyelectionboard.org
SUMMARY:Resolutions Due
DESCRIPTION:Entities who want to call a Special election for August 8\, must have their resolutions to the Election Board by 5 p.m. today
URL:https://rogerscountyelectionboard.org/event/resolutions-due-7/
LOCATION:Oklahoma
END:VEVENT
BEGIN:VEVENT
DTSTART;TZID=America/Chicago:20170613T070000
DTEND;TZID=America/Chicago:20170613T190000
DTSTAMP:20260420T124603
CREATED:20161206T160022Z
LAST-MODIFIED:20161206T160022Z
UID:10000008-1497337200-1497380400@rogerscountyelectionboard.org
SUMMARY:Special Elections (Propositions Only)
DESCRIPTION:All entities within the county are able to call a proposition election for this date. If an Election is called we will update this site with voting information.
URL:https://rogerscountyelectionboard.org/event/special-elections-propositions-only-3/
LOCATION:Oklahoma
END:VEVENT
BEGIN:VEVENT
DTSTART;TZID=America/Chicago:20170616T080000
DTEND;TZID=America/Chicago:20170616T170000
DTSTAMP:20260420T124603
CREATED:20161206T161708Z
LAST-MODIFIED:20161206T161708Z
UID:10000015-1497600000-1497632400@rogerscountyelectionboard.org
SUMMARY:Last Day to Register
DESCRIPTION:This is the last day to register if you want to participate in the July 11 Election. \nCheck your registration by visiting this link. 
URL:https://rogerscountyelectionboard.org/event/last-day-to-register-6/
LOCATION:Oklahoma
END:VEVENT
END:VCALENDAR