BEGIN:VCALENDAR
VERSION:2.0
PRODID:-//Rogers County Election Board - ECPv6.15.18//NONSGML v1.0//EN
CALSCALE:GREGORIAN
METHOD:PUBLISH
X-ORIGINAL-URL:https://rogerscountyelectionboard.org
X-WR-CALDESC:Events for Rogers County Election Board
REFRESH-INTERVAL;VALUE=DURATION:PT1H
X-Robots-Tag:noindex
X-PUBLISHED-TTL:PT1H
BEGIN:VTIMEZONE
TZID:America/Chicago
BEGIN:DAYLIGHT
TZOFFSETFROM:-0600
TZOFFSETTO:-0500
TZNAME:CDT
DTSTART:20160313T080000
END:DAYLIGHT
BEGIN:STANDARD
TZOFFSETFROM:-0500
TZOFFSETTO:-0600
TZNAME:CST
DTSTART:20161106T070000
END:STANDARD
BEGIN:DAYLIGHT
TZOFFSETFROM:-0600
TZOFFSETTO:-0500
TZNAME:CDT
DTSTART:20170312T080000
END:DAYLIGHT
BEGIN:STANDARD
TZOFFSETFROM:-0500
TZOFFSETTO:-0600
TZNAME:CST
DTSTART:20171105T070000
END:STANDARD
BEGIN:DAYLIGHT
TZOFFSETFROM:-0600
TZOFFSETTO:-0500
TZNAME:CDT
DTSTART:20180311T080000
END:DAYLIGHT
BEGIN:STANDARD
TZOFFSETFROM:-0500
TZOFFSETTO:-0600
TZNAME:CST
DTSTART:20181104T070000
END:STANDARD
END:VTIMEZONE
BEGIN:VEVENT
DTSTART;TZID=America/Chicago:20170509T070000
DTEND;TZID=America/Chicago:20170509T190000
DTSTAMP:20260420T142508
CREATED:20161206T155736Z
LAST-MODIFIED:20161206T155736Z
UID:10000007-1494313200-1494356400@rogerscountyelectionboard.org
SUMMARY:Special Elections (Propositions Only)
DESCRIPTION:All entities within the county are able to call a proposition election for this date. If an Election is called we will update this site with voting information.
URL:https://rogerscountyelectionboard.org/event/special-elections-propositions-only-2/
LOCATION:Oklahoma
END:VEVENT
BEGIN:VEVENT
DTSTART;TZID=America/Chicago:20170511T080000
DTEND;TZID=America/Chicago:20170511T170000
DTSTAMP:20260420T142508
CREATED:20161206T163238Z
LAST-MODIFIED:20161206T163238Z
UID:10000025-1494489600-1494522000@rogerscountyelectionboard.org
SUMMARY:Resolutions Due
DESCRIPTION:Entities who want to call a Special election for July 11\, must have their resolutions to the Election Board by 5 p.m. today
URL:https://rogerscountyelectionboard.org/event/resolutions-due-6/
LOCATION:Oklahoma
END:VEVENT
BEGIN:VEVENT
DTSTART;TZID=America/Chicago:20170519T080000
DTEND;TZID=America/Chicago:20170519T170000
DTSTAMP:20260420T142508
CREATED:20161206T161613Z
LAST-MODIFIED:20161206T161613Z
UID:10000014-1495180800-1495213200@rogerscountyelectionboard.org
SUMMARY:Last Day to Register
DESCRIPTION:This is the last day to register if you want to participate in the June 13 Election. \nCheck your registration by visiting this link. 
URL:https://rogerscountyelectionboard.org/event/last-day-to-register-5/
LOCATION:Oklahoma
END:VEVENT
END:VCALENDAR