BEGIN:VCALENDAR
VERSION:2.0
PRODID:-//Rogers County Election Board - ECPv6.15.18//NONSGML v1.0//EN
CALSCALE:GREGORIAN
METHOD:PUBLISH
X-WR-CALNAME:Rogers County Election Board
X-ORIGINAL-URL:https://rogerscountyelectionboard.org
X-WR-CALDESC:Events for Rogers County Election Board
REFRESH-INTERVAL;VALUE=DURATION:PT1H
X-Robots-Tag:noindex
X-PUBLISHED-TTL:PT1H
BEGIN:VTIMEZONE
TZID:America/Chicago
BEGIN:DAYLIGHT
TZOFFSETFROM:-0600
TZOFFSETTO:-0500
TZNAME:CDT
DTSTART:20160313T080000
END:DAYLIGHT
BEGIN:STANDARD
TZOFFSETFROM:-0500
TZOFFSETTO:-0600
TZNAME:CST
DTSTART:20161106T070000
END:STANDARD
BEGIN:DAYLIGHT
TZOFFSETFROM:-0600
TZOFFSETTO:-0500
TZNAME:CDT
DTSTART:20170312T080000
END:DAYLIGHT
BEGIN:STANDARD
TZOFFSETFROM:-0500
TZOFFSETTO:-0600
TZNAME:CST
DTSTART:20171105T070000
END:STANDARD
BEGIN:DAYLIGHT
TZOFFSETFROM:-0600
TZOFFSETTO:-0500
TZNAME:CDT
DTSTART:20180311T080000
END:DAYLIGHT
BEGIN:STANDARD
TZOFFSETFROM:-0500
TZOFFSETTO:-0600
TZNAME:CST
DTSTART:20181104T070000
END:STANDARD
END:VTIMEZONE
BEGIN:VEVENT
DTSTART;TZID=America/Chicago:20170404T070000
DTEND;TZID=America/Chicago:20170404T190000
DTSTAMP:20260420T175446
CREATED:20161206T161001Z
LAST-MODIFIED:20161206T161001Z
UID:10000011-1491289200-1491332400@rogerscountyelectionboard.org
SUMMARY:Regular Municipal (general)/ School Runoff/ Special
DESCRIPTION:This is a regularly scheduled election for Municipalities to hold their general elections and for schools to have a runoff election if needed. All entities within the county are able to call a proposition or Candidate election for this date. If an Election is called we will update this site with voting information.
URL:https://rogerscountyelectionboard.org/event/regular-municipal-general-school-runoff-special/
LOCATION:Oklahoma
END:VEVENT
END:VCALENDAR