BEGIN:VCALENDAR
VERSION:2.0
PRODID:-//Rogers County Election Board - ECPv6.15.18//NONSGML v1.0//EN
CALSCALE:GREGORIAN
METHOD:PUBLISH
X-WR-CALNAME:Rogers County Election Board
X-ORIGINAL-URL:https://rogerscountyelectionboard.org
X-WR-CALDESC:Events for Rogers County Election Board
REFRESH-INTERVAL;VALUE=DURATION:PT1H
X-Robots-Tag:noindex
X-PUBLISHED-TTL:PT1H
BEGIN:VTIMEZONE
TZID:America/Chicago
BEGIN:DAYLIGHT
TZOFFSETFROM:-0600
TZOFFSETTO:-0500
TZNAME:CDT
DTSTART:20160313T080000
END:DAYLIGHT
BEGIN:STANDARD
TZOFFSETFROM:-0500
TZOFFSETTO:-0600
TZNAME:CST
DTSTART:20161106T070000
END:STANDARD
BEGIN:DAYLIGHT
TZOFFSETFROM:-0600
TZOFFSETTO:-0500
TZNAME:CDT
DTSTART:20170312T080000
END:DAYLIGHT
BEGIN:STANDARD
TZOFFSETFROM:-0500
TZOFFSETTO:-0600
TZNAME:CST
DTSTART:20171105T070000
END:STANDARD
BEGIN:DAYLIGHT
TZOFFSETFROM:-0600
TZOFFSETTO:-0500
TZNAME:CDT
DTSTART:20180311T080000
END:DAYLIGHT
BEGIN:STANDARD
TZOFFSETFROM:-0500
TZOFFSETTO:-0600
TZNAME:CST
DTSTART:20181104T070000
END:STANDARD
END:VTIMEZONE
BEGIN:VEVENT
DTSTART;TZID=America/Chicago:20170214T070000
DTEND;TZID=America/Chicago:20170214T190000
DTSTAMP:20260420T214233
CREATED:20161206T154804Z
LAST-MODIFIED:20161206T154804Z
UID:10000006-1487055600-1487098800@rogerscountyelectionboard.org
SUMMARY:Regular Election ~ School Board/ Municipal (primary)/ Special Elections
DESCRIPTION:More information will be provided once we have the final list of candidates.
URL:https://rogerscountyelectionboard.org/event/regular-election-school-board-municipal-primary-special-elections/
LOCATION:Oklahoma
END:VEVENT
END:VCALENDAR